﻿BEGIN:VCALENDAR
VERSION:2.0
PRODID:-//Initiative für Beschäftigung OWL e. V. - ECPv6.15.20//NONSGML v1.0//EN
CALSCALE:GREGORIAN
METHOD:PUBLISH
X-WR-CALNAME:Initiative für Beschäftigung OWL e. V.
X-ORIGINAL-URL:https://ifb-owl.de
X-WR-CALDESC:Veranstaltungen für Initiative für Beschäftigung OWL e. V.
REFRESH-INTERVAL;VALUE=DURATION:PT1H
X-Robots-Tag:noindex
X-PUBLISHED-TTL:PT1H
BEGIN:VTIMEZONE
TZID:Europe/Berlin
BEGIN:DAYLIGHT
TZOFFSETFROM:+0100
TZOFFSETTO:+0200
TZNAME:CEST
DTSTART:20200329T010000
END:DAYLIGHT
BEGIN:STANDARD
TZOFFSETFROM:+0200
TZOFFSETTO:+0100
TZNAME:CET
DTSTART:20201025T010000
END:STANDARD
BEGIN:DAYLIGHT
TZOFFSETFROM:+0100
TZOFFSETTO:+0200
TZNAME:CEST
DTSTART:20210328T010000
END:DAYLIGHT
BEGIN:STANDARD
TZOFFSETFROM:+0200
TZOFFSETTO:+0100
TZNAME:CET
DTSTART:20211031T010000
END:STANDARD
BEGIN:DAYLIGHT
TZOFFSETFROM:+0100
TZOFFSETTO:+0200
TZNAME:CEST
DTSTART:20220327T010000
END:DAYLIGHT
BEGIN:STANDARD
TZOFFSETFROM:+0200
TZOFFSETTO:+0100
TZNAME:CET
DTSTART:20221030T010000
END:STANDARD
END:VTIMEZONE
BEGIN:VEVENT
DTSTART;TZID=Europe/Berlin:20210420T113000
DTEND;TZID=Europe/Berlin:20210420T133000
DTSTAMP:20260426T030945
CREATED:20210322T153021Z
LAST-MODIFIED:20210414T133151Z
UID:12404-1618918200-1618925400@ifb-owl.de
SUMMARY:30. Mitgliederversammlung der Initiative für Beschäftigung OWL e.V.
DESCRIPTION:Die jährliche Mitgliederversammlung der Initiative für Beschäftigung OWL e.V. – erstmals in Form einer Online-Veranstaltung. Sie findet am 20. April 2021\, von 11:30 bis 13:30 Uhr als Videokonferenz via MS-Teams Live Event statt. Bitte melden Sie sich unten für die Veranstaltung an. \nDen Link zur Veranstaltung senden wir Ihnen nach Ihrer Anmeldung am 19. April zu. \nNeben Wahlen zum Vorstand sowie Einblicken und Ausblicken auf die Arbeit der IfB\, dürfen wir uns zudem über einen Gastvortrag von Frau Hanna Jürgensmeier\, Mitglied der Geschäftsführung der ScMI AG (Paderborn)\, freuen. Frau Jürgensmeier wird uns Einblicke in die Forschung zu „Post-Corona-Szenarien 2030“ geben\, die Folgen der gegenwärtigen Krise mit dem Schwerpunkt auf die Arbeitswelt und den Arbeitsmarkt beleuchten\, sowie mögliche Chancen und Optionen für OWL aufzeigen.  \nAm 20. April wird ab 11 Uhr unser Online-Foyer über die Website wonder.me geöffnet sein. Dort gibt es die Gelegenheit für informellen Austausch\, wie er auf vielen unserer Präsenzveranstaltungen gelebte Praxis ist.
URL:https://ifb-owl.de/event/mitgliederversammlung-ifb-owl-2021/
LOCATION:Online-Videokonferenz
ORGANIZER;CN="Initiative f%C3%BCr Besch%C3%A4ftigung OWL e.V.":MAILTO:info@ifb-owl.de
END:VEVENT
END:VCALENDAR