﻿BEGIN:VCALENDAR
VERSION:2.0
PRODID:-//Initiative für Beschäftigung OWL e. V. - ECPv6.15.20//NONSGML v1.0//EN
CALSCALE:GREGORIAN
METHOD:PUBLISH
X-ORIGINAL-URL:https://ifb-owl.de
X-WR-CALDESC:Veranstaltungen für Initiative für Beschäftigung OWL e. V.
REFRESH-INTERVAL;VALUE=DURATION:PT1H
X-Robots-Tag:noindex
X-PUBLISHED-TTL:PT1H
BEGIN:VTIMEZONE
TZID:Europe/Berlin
BEGIN:DAYLIGHT
TZOFFSETFROM:+0100
TZOFFSETTO:+0200
TZNAME:CEST
DTSTART:20200329T010000
END:DAYLIGHT
BEGIN:STANDARD
TZOFFSETFROM:+0200
TZOFFSETTO:+0100
TZNAME:CET
DTSTART:20201025T010000
END:STANDARD
BEGIN:DAYLIGHT
TZOFFSETFROM:+0100
TZOFFSETTO:+0200
TZNAME:CEST
DTSTART:20210328T010000
END:DAYLIGHT
BEGIN:STANDARD
TZOFFSETFROM:+0200
TZOFFSETTO:+0100
TZNAME:CET
DTSTART:20211031T010000
END:STANDARD
BEGIN:DAYLIGHT
TZOFFSETFROM:+0100
TZOFFSETTO:+0200
TZNAME:CEST
DTSTART:20220327T010000
END:DAYLIGHT
BEGIN:STANDARD
TZOFFSETFROM:+0200
TZOFFSETTO:+0100
TZNAME:CET
DTSTART:20221030T010000
END:STANDARD
END:VTIMEZONE
BEGIN:VEVENT
DTSTART;TZID=Europe/Berlin:20210519T160000
DTEND;TZID=Europe/Berlin:20210519T170000
DTSTAMP:20260426T014055
CREATED:20210316T103907Z
LAST-MODIFIED:20210316T103907Z
UID:12362-1621440000-1621443600@ifb-owl.de
SUMMARY:CSR 4.0 Teatime\, Beziehungen nachhaltig verändern: Stakeholder ǀ Gesellschaft
DESCRIPTION:Digitaler Zoom-Talk zum Thema: \nWo bietet die Digitalisierung Chancen für die Stärkung des menschlichen Miteinanders und gesellschaftlichen Engagements? Wie verändert Digitalisierung das Menschenbild und wie stellt auch “soziale Arbeit 4.0“ den Menschen in den Mittelpunkt? \nHost: Caritasverband Erzbistum Paderborn e.V.\, Christoph Eikenbusch \n 
URL:https://ifb-owl.de/event/csr-4-0-teatime-beziehungen-nachhaltig-veraendern-stakeholder-%c7%80-gesellschaft/
LOCATION:https://www.eventbrite.de/e/csr-40-teatime-caritasverband-erzbistum-paderborn-registrierung-142870378147
END:VEVENT
END:VCALENDAR