﻿BEGIN:VCALENDAR
VERSION:2.0
PRODID:-//Initiative für Beschäftigung OWL e. V. - ECPv6.15.20//NONSGML v1.0//EN
CALSCALE:GREGORIAN
METHOD:PUBLISH
X-WR-CALNAME:Initiative für Beschäftigung OWL e. V.
X-ORIGINAL-URL:https://ifb-owl.de
X-WR-CALDESC:Veranstaltungen für Initiative für Beschäftigung OWL e. V.
REFRESH-INTERVAL;VALUE=DURATION:PT1H
X-Robots-Tag:noindex
X-PUBLISHED-TTL:PT1H
BEGIN:VTIMEZONE
TZID:Europe/Paris
BEGIN:DAYLIGHT
TZOFFSETFROM:+0100
TZOFFSETTO:+0200
TZNAME:CEST
DTSTART:20200329T010000
END:DAYLIGHT
BEGIN:STANDARD
TZOFFSETFROM:+0200
TZOFFSETTO:+0100
TZNAME:CET
DTSTART:20201025T010000
END:STANDARD
BEGIN:DAYLIGHT
TZOFFSETFROM:+0100
TZOFFSETTO:+0200
TZNAME:CEST
DTSTART:20210328T010000
END:DAYLIGHT
BEGIN:STANDARD
TZOFFSETFROM:+0200
TZOFFSETTO:+0100
TZNAME:CET
DTSTART:20211031T010000
END:STANDARD
BEGIN:DAYLIGHT
TZOFFSETFROM:+0100
TZOFFSETTO:+0200
TZNAME:CEST
DTSTART:20220327T010000
END:DAYLIGHT
BEGIN:STANDARD
TZOFFSETFROM:+0200
TZOFFSETTO:+0100
TZNAME:CET
DTSTART:20221030T010000
END:STANDARD
END:VTIMEZONE
BEGIN:VEVENT
DTSTART;TZID=Europe/Paris:20211027T143000
DTEND;TZID=Europe/Paris:20211027T173000
DTSTAMP:20260425T174821
CREATED:20211012T122425Z
LAST-MODIFIED:20211015T100927Z
UID:12740-1635345000-1635355800@ifb-owl.de
SUMMARY:Themenkreis Integration bei ProArbeit e.V.
DESCRIPTION:Die maximale Zahl an Anmeldungen wurde inzwischen erreicht\, deshalb können wir aktuell leider keine weiteren Anmeldungen mehr annehmen. Wir danken Ihnen für Ihr Interesse!\nWir freuen uns auf die nächste Ausgabe des Themenkreis Integration hinweisen zu dürfen. Zum ersten Mal seit dem Beginn der Pandemie wird der Themenkreis wieder in Präsenz stattfinden. \nThematisch widmet sich der Themenkreis der  Situation von Arbeitnehmerinnen und -Arbeitnehmern aus dem EU-Ausland in Ostwestfalen-Lippe. \nUnser Gastgeber ist dieses Mal dankenswerterweise ProArbeit e.V. Rheda-Wiedenbrück. (Am Sandberg 72\, 33378 Rheda-Wiedenbrück) \nAus Gründen des Infektionsschutzes wird die Veranstaltung mit begrenzter Teilnehmerzahl stattfinden und unter den Maßgaben der 3G-Regel durchgeführt. \nNähere Informationen sowie die Tagesordnung erhalten Sie in Kürze.
URL:https://ifb-owl.de/event/themenkreis-integration-bei-proarbeit-e-v-am-27-10-21/
LOCATION:ProArbeit e.V. Rheda-Wiedenbrück\, Am Sandberg 72\, Rheda-Wiedenbrück\, Nordrhein-Westfalen\, 33378
CATEGORIES:Themenkreis
ORGANIZER;CN="Initiative f%C3%BCr Besch%C3%A4ftigung OWL e.V.":MAILTO:info@ifb-owl.de
END:VEVENT
END:VCALENDAR