﻿BEGIN:VCALENDAR
VERSION:2.0
PRODID:-//Initiative für Beschäftigung OWL e. V. - ECPv6.15.20//NONSGML v1.0//EN
CALSCALE:GREGORIAN
METHOD:PUBLISH
X-WR-CALNAME:Initiative für Beschäftigung OWL e. V.
X-ORIGINAL-URL:https://ifb-owl.de
X-WR-CALDESC:Veranstaltungen für Initiative für Beschäftigung OWL e. V.
REFRESH-INTERVAL;VALUE=DURATION:PT1H
X-Robots-Tag:noindex
X-PUBLISHED-TTL:PT1H
BEGIN:VTIMEZONE
TZID:Europe/Paris
BEGIN:DAYLIGHT
TZOFFSETFROM:+0100
TZOFFSETTO:+0200
TZNAME:CEST
DTSTART:20200329T010000
END:DAYLIGHT
BEGIN:STANDARD
TZOFFSETFROM:+0200
TZOFFSETTO:+0100
TZNAME:CET
DTSTART:20201025T010000
END:STANDARD
BEGIN:DAYLIGHT
TZOFFSETFROM:+0100
TZOFFSETTO:+0200
TZNAME:CEST
DTSTART:20210328T010000
END:DAYLIGHT
BEGIN:STANDARD
TZOFFSETFROM:+0200
TZOFFSETTO:+0100
TZNAME:CET
DTSTART:20211031T010000
END:STANDARD
BEGIN:DAYLIGHT
TZOFFSETFROM:+0100
TZOFFSETTO:+0200
TZNAME:CEST
DTSTART:20220327T010000
END:DAYLIGHT
BEGIN:STANDARD
TZOFFSETFROM:+0200
TZOFFSETTO:+0100
TZNAME:CET
DTSTART:20221030T010000
END:STANDARD
END:VTIMEZONE
BEGIN:VEVENT
DTSTART;TZID=Europe/Paris:20211118T150000
DTEND;TZID=Europe/Paris:20211118T170000
DTSTAMP:20260425T160755
CREATED:20211005T085159Z
LAST-MODIFIED:20211012T133243Z
UID:12729-1637247600-1637254800@ifb-owl.de
SUMMARY:31. Mitgliederversammlung der Initiative für Beschäftigung OWL e.V.
DESCRIPTION:Die zweite Mitgliederversammlung der Initiative für Beschäftigung OWL e.V. des Jahres 2021 wird am Donnerstag\, 18. November 2021 von 15:00-17:00 Uhr stattfinden. Nach aktuellem Planungsstand wird sie erneut als Online-Veranstaltung abgehalten werden. \nBitte melden Sie sich unten für die Veranstaltung an. Oder schreiben Sie uns eine entsprechende Mail.\n \nÜber Zugangsinfos\, Ablauf und Tagesordnung werden wir Sie zeitnah auf dem Laufenden halten.
URL:https://ifb-owl.de/event/31-mitgliederversammlung-der-initiative-fuer-beschaeftigung-owl-e-v/
LOCATION:Online-Videokonferenz
END:VEVENT
END:VCALENDAR