﻿BEGIN:VCALENDAR
VERSION:2.0
PRODID:-//Initiative für Beschäftigung OWL e. V. - ECPv6.15.20//NONSGML v1.0//EN
CALSCALE:GREGORIAN
METHOD:PUBLISH
X-WR-CALNAME:Initiative für Beschäftigung OWL e. V.
X-ORIGINAL-URL:https://ifb-owl.de
X-WR-CALDESC:Veranstaltungen für Initiative für Beschäftigung OWL e. V.
REFRESH-INTERVAL;VALUE=DURATION:PT1H
X-Robots-Tag:noindex
X-PUBLISHED-TTL:PT1H
BEGIN:VTIMEZONE
TZID:Europe/Paris
BEGIN:DAYLIGHT
TZOFFSETFROM:+0100
TZOFFSETTO:+0200
TZNAME:CEST
DTSTART:20220327T010000
END:DAYLIGHT
BEGIN:STANDARD
TZOFFSETFROM:+0200
TZOFFSETTO:+0100
TZNAME:CET
DTSTART:20221030T010000
END:STANDARD
BEGIN:DAYLIGHT
TZOFFSETFROM:+0100
TZOFFSETTO:+0200
TZNAME:CEST
DTSTART:20230326T010000
END:DAYLIGHT
BEGIN:STANDARD
TZOFFSETFROM:+0200
TZOFFSETTO:+0100
TZNAME:CET
DTSTART:20231029T010000
END:STANDARD
BEGIN:DAYLIGHT
TZOFFSETFROM:+0100
TZOFFSETTO:+0200
TZNAME:CEST
DTSTART:20240331T010000
END:DAYLIGHT
BEGIN:STANDARD
TZOFFSETFROM:+0200
TZOFFSETTO:+0100
TZNAME:CET
DTSTART:20241027T010000
END:STANDARD
END:VTIMEZONE
BEGIN:VEVENT
DTSTART;TZID=Europe/Paris:20230612T140000
DTEND;TZID=Europe/Paris:20230612T170000
DTSTAMP:20260423T203859
CREATED:20230524T094017Z
LAST-MODIFIED:20230529T175058Z
UID:13064-1686578400-1686589200@ifb-owl.de
SUMMARY:Themenkreis Integration zum Thema "Rückenwind für IQ"
DESCRIPTION:
URL:https://ifb-owl.de/event/themenkreis-integration-zum-thema-rueckenwind-fuer-iq/
END:VEVENT
END:VCALENDAR