﻿BEGIN:VCALENDAR
VERSION:2.0
PRODID:-//Initiative für Beschäftigung OWL e. V. - ECPv6.15.20//NONSGML v1.0//EN
CALSCALE:GREGORIAN
METHOD:PUBLISH
X-ORIGINAL-URL:https://ifb-owl.de
X-WR-CALDESC:Veranstaltungen für Initiative für Beschäftigung OWL e. V.
REFRESH-INTERVAL;VALUE=DURATION:PT1H
X-Robots-Tag:noindex
X-PUBLISHED-TTL:PT1H
BEGIN:VTIMEZONE
TZID:Europe/Paris
BEGIN:DAYLIGHT
TZOFFSETFROM:+0100
TZOFFSETTO:+0200
TZNAME:CEST
DTSTART:20220327T010000
END:DAYLIGHT
BEGIN:STANDARD
TZOFFSETFROM:+0200
TZOFFSETTO:+0100
TZNAME:CET
DTSTART:20221030T010000
END:STANDARD
BEGIN:DAYLIGHT
TZOFFSETFROM:+0100
TZOFFSETTO:+0200
TZNAME:CEST
DTSTART:20230326T010000
END:DAYLIGHT
BEGIN:STANDARD
TZOFFSETFROM:+0200
TZOFFSETTO:+0100
TZNAME:CET
DTSTART:20231029T010000
END:STANDARD
BEGIN:DAYLIGHT
TZOFFSETFROM:+0100
TZOFFSETTO:+0200
TZNAME:CEST
DTSTART:20240331T010000
END:DAYLIGHT
BEGIN:STANDARD
TZOFFSETFROM:+0200
TZOFFSETTO:+0100
TZNAME:CET
DTSTART:20241027T010000
END:STANDARD
END:VTIMEZONE
BEGIN:VEVENT
DTSTART;TZID=Europe/Paris:20231124T140000
DTEND;TZID=Europe/Paris:20231124T180000
DTSTAMP:20260423T131259
CREATED:20231013T095724Z
LAST-MODIFIED:20231031T080710Z
UID:13229-1700834400-1700848800@ifb-owl.de
SUMMARY:Fair arbeiten und zusammenleben in Ostwestfalen-Lippe – Ausbeutung in der Logistik bis zur letzten Meile?
DESCRIPTION:[vc_row equal_columns=”true”][vc_column width=”2/3″][vc_column_text css=”.vc_custom_1697626615233{margin-bottom: 0px !important;}”]Sehr geehrte Damen und Herren\, \nunter dem Dach der Initiative für Beschäftigung OWL haben sich der Caritasverband im Kreis Gütersloh\, der DGB Ostwestfalen-Lippe\, die Diakonie im Kreis Herford sowie die Netzwerk Lippe gGmbH zu einem regionalen Netzwerk „FAIR ARBEITEN UND ZUSAMMENLEBEN IN OSTWESTFALEN-LIPPE“ zusammengeschlossen. Ziel ist es\, das Thema europäische Migration in der Region Ostwestfalen-Lippe auszuleuchten und sich gegen Arbeitsausbeutung und Prekarisierung einzusetzen. \nIm September 2022 hat dieses Netzwerk eine große regionale Fachveranstaltung mit einer Vielzahl von Akteuren durchgeführt. Die positive Resonanz sowohl in der Fachöffentlichkeit als auch in den Medien hat die Protagonist:innen motiviert\, mit einer weiteren Fachveranstaltung zu den Themen europäischer Migration mit dem Schwerpunkt Logistik anzuschließen\, u.a. zu den Arbeitsbedingungen in Logistikzentren und auf der “letzten Meile”. \nDer Veranstaltungstermin fällt auf den „Black Friday“\, den jährlichen Höhepunkt der Onlinebestell- bzw. Versandaktivitäten im Handel. Dieser Tag ist gleichzeitig der Gipfel der Belastung der Beschäftigten. \nZiel der Veranstaltung ist neben der Herstellung von Öffentlichkeit weiterhin auch die Sensibilisierung der Politik. Die Bundesratsinitiative zum Verbot von Werkverträgen in der Paketbranche werten wir als positives Signal. \nHerzliche Einladung zur Fachveranstaltung[/vc_column_text][/vc_column][vc_column width=”1/3″][mk_image src=”https://ifb-owl.de/wp-content/uploads/2017/02/IfB_Logo_Standard_PRINT.jpg” image_size=”full” align=”right”][vc_column_text css=”.vc_custom_1697804435344{margin-bottom: 0px !important;}”]Datum:\nFreitag\, 24.11.2023 \nUhrzeit:\n14:00 bis 18:00 Uhr\n(Einlass ab 13.00 Uhr) \nAnmeldefrist:\nFreitag\, 23.11.2023 \nAnfahrt und Parken \nAgenda und Ablauf \nKontakt:\nMarike Tabor\nmarike.tabor@ifb-owl.de[/vc_column_text][/vc_column][/vc_row][vc_row][vc_column][vc_separator border_width=”2″][vc_column_text css=”.vc_custom_1694601645067{margin-bottom: 0px !important;}”]\nIhre Anmeldung\n[/vc_column_text][/vc_column][/vc_row]
URL:https://ifb-owl.de/event/ausbeutung-in-der-logistik/
LOCATION:Ravensberger Spinnerei\, Revensberger Park 6\, Bielefeld\, 33607
ORGANIZER;CN="Initiative f%C3%BCr Besch%C3%A4ftigung OWL e.V.":MAILTO:info@ifb-owl.de
END:VEVENT
END:VCALENDAR