﻿BEGIN:VCALENDAR
VERSION:2.0
PRODID:-//Initiative für Beschäftigung OWL e. V. - ECPv6.15.20//NONSGML v1.0//EN
CALSCALE:GREGORIAN
METHOD:PUBLISH
X-WR-CALNAME:Initiative für Beschäftigung OWL e. V.
X-ORIGINAL-URL:https://ifb-owl.de
X-WR-CALDESC:Veranstaltungen für Initiative für Beschäftigung OWL e. V.
REFRESH-INTERVAL;VALUE=DURATION:PT1H
X-Robots-Tag:noindex
X-PUBLISHED-TTL:PT1H
BEGIN:VTIMEZONE
TZID:Europe/Paris
BEGIN:DAYLIGHT
TZOFFSETFROM:+0100
TZOFFSETTO:+0200
TZNAME:CEST
DTSTART:20230326T010000
END:DAYLIGHT
BEGIN:STANDARD
TZOFFSETFROM:+0200
TZOFFSETTO:+0100
TZNAME:CET
DTSTART:20231029T010000
END:STANDARD
BEGIN:DAYLIGHT
TZOFFSETFROM:+0100
TZOFFSETTO:+0200
TZNAME:CEST
DTSTART:20240331T010000
END:DAYLIGHT
BEGIN:STANDARD
TZOFFSETFROM:+0200
TZOFFSETTO:+0100
TZNAME:CET
DTSTART:20241027T010000
END:STANDARD
BEGIN:DAYLIGHT
TZOFFSETFROM:+0100
TZOFFSETTO:+0200
TZNAME:CEST
DTSTART:20250330T010000
END:DAYLIGHT
BEGIN:STANDARD
TZOFFSETFROM:+0200
TZOFFSETTO:+0100
TZNAME:CET
DTSTART:20251026T010000
END:STANDARD
END:VTIMEZONE
BEGIN:VEVENT
DTSTART;TZID=Europe/Paris:20240903T090000
DTEND;TZID=Europe/Paris:20240903T103000
DTSTAMP:20260422T232546
CREATED:20240812T163400Z
LAST-MODIFIED:20240812T163509Z
UID:13465-1725354000-1725359400@ifb-owl.de
SUMMARY:„IQ um 9“ Expertenimpuls: Qualifizierungsbegleitung und Mentoring im IQ-Netzwerk
DESCRIPTION:Gut erholt aus der Sommerpause starten wir mit frischer Energie in die zweite Jahreshälfte von „IQ um 9“. Am 3. September geht es um die Angebote im Bereich Qualifizierungsbegleitung und Mentoring in unserem IQ-Netzwerk. Wir freuen uns ganz besonders\, für diesen Termin auch Kolleg*innen aus dem Regionalen Integrationsnetzwerk IQ NRW-West begrüßen zu dürfen. Die Expertenimpulse kommen diesmal von unseren IQ-Teilvorhaben Handwerksbildungszentrum Brackwede e.V. (HBZ) und dem Verein für Berufliche Ausbildung und Qualifizierung Jugendlicher und Erwachsener (BAJ e.V.) – beide aus IQ NRW-Ost – sowie vom Verein Deutscher Ingenieure (VDI e.V.) aus IQ NRW-West. Nach den Impulsvorträgen wird es ausreichend Zeit für Austausch und Nachfragen geben. \nAnmeldungen können direkt hier vorgenommen werden. \nBei der Anmeldung mehrerer Personen registrieren Sie sich bitte jeweils einzeln. Vielen Dank!
URL:https://ifb-owl.de/event/iq-um-9-expertenimpuls-qualifizierungsbegleitung-und-mentoring-im-iq-netzwerk/
LOCATION:Online
ATTACH;FMTTYPE=image/jpeg:https://ifb-owl.de/wp-content/uploads/2024/02/iq-um-9-bild-final-1-e1708460231133.jpeg
ORGANIZER;CN="Initiative f%C3%BCr Besch%C3%A4ftigung OWL e.V.":MAILTO:info@ifb-owl.de
END:VEVENT
END:VCALENDAR