﻿BEGIN:VCALENDAR
VERSION:2.0
PRODID:-//Initiative für Beschäftigung OWL e. V. - ECPv6.15.20//NONSGML v1.0//EN
CALSCALE:GREGORIAN
METHOD:PUBLISH
X-ORIGINAL-URL:https://ifb-owl.de
X-WR-CALDESC:Veranstaltungen für Initiative für Beschäftigung OWL e. V.
REFRESH-INTERVAL;VALUE=DURATION:PT1H
X-Robots-Tag:noindex
X-PUBLISHED-TTL:PT1H
BEGIN:VTIMEZONE
TZID:Europe/Paris
BEGIN:DAYLIGHT
TZOFFSETFROM:+0100
TZOFFSETTO:+0200
TZNAME:CEST
DTSTART:20240331T010000
END:DAYLIGHT
BEGIN:STANDARD
TZOFFSETFROM:+0200
TZOFFSETTO:+0100
TZNAME:CET
DTSTART:20241027T010000
END:STANDARD
BEGIN:DAYLIGHT
TZOFFSETFROM:+0100
TZOFFSETTO:+0200
TZNAME:CEST
DTSTART:20250330T010000
END:DAYLIGHT
BEGIN:STANDARD
TZOFFSETFROM:+0200
TZOFFSETTO:+0100
TZNAME:CET
DTSTART:20251026T010000
END:STANDARD
BEGIN:DAYLIGHT
TZOFFSETFROM:+0100
TZOFFSETTO:+0200
TZNAME:CEST
DTSTART:20260329T010000
END:DAYLIGHT
BEGIN:STANDARD
TZOFFSETFROM:+0200
TZOFFSETTO:+0100
TZNAME:CET
DTSTART:20261025T010000
END:STANDARD
END:VTIMEZONE
BEGIN:VEVENT
DTSTART;TZID=Europe/Paris:20250401T090000
DTEND;TZID=Europe/Paris:20250401T103000
DTSTAMP:20260422T104514
CREATED:20250311T063804Z
LAST-MODIFIED:20250311T063804Z
UID:13552-1743498000-1743503400@ifb-owl.de
SUMMARY:„IQ um 9“: Expertenimpuls der IQ-Fachstelle Einwanderung und Integration aus Berlin
DESCRIPTION:Zu unserer nächsten Ausgabe von „IQ um 9“ am 1. April haben wir unsere Kolleg*innen von der IQ-Fachstelle Einwanderung und Integration eingeladen. Die Fachstelle beim „Minor – Projektkontor für Bildung und Forschung gGmbH“ berät das IQ-Netzwerk deutschlandweit zu Fragen der Einwanderung und arbeitsmarktlichen und betrieblichen Integration. \nIn ihren Expertenimpulsen werden Kristina Korte und Franziska Loschert Ergebnisse ihrer aktuellen Arbeit in der Fachstelle vorstellen. Im ersten Input werden aktuelle Zahlen und Fakten zum Thema Einwanderung nach Deutschland präsentiert. Dabei soll es um unter anderem auch um Bevölkerungsentwicklung und Fachkräftebedarfe in Zusammenhang mit Migration gehen. Im zweiten Teil wird die Zusammenarbeit der Fachstelle mit dem „Community Consulting Team“ vorgestellt\, das sich aus 13 Personen mit eigener Migrationserfahrung zusammensetzt. Dabei wird beleuchtet\, wie partizipative Ansätze eingesetzt werden können\, um gemeinsam mit der Zielgruppe Handlungsoptionen zu erarbeiten und weiterzuentwickeln. \nAnmeldungen können direkt hier vorgenommen werden. (Bei Anmeldung mehrerer Personen\, bitte registrieren Sie sich jeweils einzeln).
URL:https://ifb-owl.de/event/iq-um-9-expertenimpuls-der-iq-fachstelle-einwanderung-und-integration-aus-berlin/
LOCATION:Online
ATTACH;FMTTYPE=image/jpeg:https://ifb-owl.de/wp-content/uploads/2024/02/iq-um-9-bild-final-1-e1708460231133.jpeg
ORGANIZER;CN="Initiative f%C3%BCr Besch%C3%A4ftigung OWL e.V.":MAILTO:info@ifb-owl.de
END:VEVENT
END:VCALENDAR