﻿BEGIN:VCALENDAR
VERSION:2.0
PRODID:-//Initiative für Beschäftigung OWL e. V. - ECPv6.15.20//NONSGML v1.0//EN
CALSCALE:GREGORIAN
METHOD:PUBLISH
X-WR-CALNAME:Initiative für Beschäftigung OWL e. V.
X-ORIGINAL-URL:https://ifb-owl.de
X-WR-CALDESC:Veranstaltungen für Initiative für Beschäftigung OWL e. V.
REFRESH-INTERVAL;VALUE=DURATION:PT1H
X-Robots-Tag:noindex
X-PUBLISHED-TTL:PT1H
BEGIN:VTIMEZONE
TZID:Europe/Paris
BEGIN:DAYLIGHT
TZOFFSETFROM:+0100
TZOFFSETTO:+0200
TZNAME:CEST
DTSTART:20240331T010000
END:DAYLIGHT
BEGIN:STANDARD
TZOFFSETFROM:+0200
TZOFFSETTO:+0100
TZNAME:CET
DTSTART:20241027T010000
END:STANDARD
BEGIN:DAYLIGHT
TZOFFSETFROM:+0100
TZOFFSETTO:+0200
TZNAME:CEST
DTSTART:20250330T010000
END:DAYLIGHT
BEGIN:STANDARD
TZOFFSETFROM:+0200
TZOFFSETTO:+0100
TZNAME:CET
DTSTART:20251026T010000
END:STANDARD
BEGIN:DAYLIGHT
TZOFFSETFROM:+0100
TZOFFSETTO:+0200
TZNAME:CEST
DTSTART:20260329T010000
END:DAYLIGHT
BEGIN:STANDARD
TZOFFSETFROM:+0200
TZOFFSETTO:+0100
TZNAME:CET
DTSTART:20261025T010000
END:STANDARD
END:VTIMEZONE
BEGIN:VEVENT
DTSTART;TZID=Europe/Paris:20250617T090000
DTEND;TZID=Europe/Paris:20250617T103000
DTSTAMP:20260422T072358
CREATED:20250512T115530Z
LAST-MODIFIED:20250512T115600Z
UID:13580-1750150800-1750156200@ifb-owl.de
SUMMARY:„IQ um 9“: Evaluation trifft Weiterentwicklung - Arbeitsmarktintegration in OWL gemeinsam weiterdenken
DESCRIPTION:Im März haben wir mit der connect | train | transform OWL einen intensiven Einblick in den regionalen Arbeitsmarktintegrationsprozess erhalten. In der kommenden Ausgabe von „IQ um 9“ möchten wir die Ergebnisse der Veranstaltung vom 18. März 2025 gemeinsam reflektieren und darauf aufbauend in die Weiterentwicklung gehen. \nIm ersten Teil der Veranstaltung präsentieren wir Ihnen die zentralen Evaluationsergebnisse der ctt OWL – mit einem besonderen Fokus auf die Perspektiven der Teilnehmenden und Aussteller*innen. Diese Erkenntnisse bieten wichtige Anhaltspunkte für zukünftige Entwicklungen im Kontext von Vernetzung\, Matching und Begleitung entlang des Integrationsprozesses. \nAnschließend laden wir Sie zu einem partizipativen Workshop-Format ein: Gemeinsam mit Ihnen möchten wir herausarbeiten\, wie das Format „ctt OWL“ gezielt weiterentwickelt werden kann. Im Fokus stehen dabei konkrete Ableitungen für die operative Praxis: \nSie sind die Expert*innen vor Ort – deshalb gestalten wir diese Ausgabe von „IQ um 9“ bewusst anders: weniger Vortrag\, mehr Dialog. \nWir freuen uns\, wenn Sie sich mit Ihrer Erfahrung und Ihren Ideen einbringen! \nAnmeldungen können direkt hier vorgenommen werden. (Bei Anmeldung mehrerer Personen\, bitte registrieren Sie sich jeweils einzeln.)
URL:https://ifb-owl.de/event/informationsreihe-iq-um-9-evaluation-trifft-weiterentwicklung-arbeitsmarktintegration-in-owl-gemeinsam-weiterdenken/
LOCATION:Online
ATTACH;FMTTYPE=image/jpeg:https://ifb-owl.de/wp-content/uploads/2024/02/iq-um-9-bild-final-1-e1708460231133.jpeg
ORGANIZER;CN="Initiative f%C3%BCr Besch%C3%A4ftigung OWL e.V.":MAILTO:info@ifb-owl.de
END:VEVENT
END:VCALENDAR