﻿BEGIN:VCALENDAR
VERSION:2.0
PRODID:-//Initiative für Beschäftigung OWL e. V. - ECPv6.15.20//NONSGML v1.0//EN
CALSCALE:GREGORIAN
METHOD:PUBLISH
X-ORIGINAL-URL:https://ifb-owl.de
X-WR-CALDESC:Veranstaltungen für Initiative für Beschäftigung OWL e. V.
REFRESH-INTERVAL;VALUE=DURATION:PT1H
X-Robots-Tag:noindex
X-PUBLISHED-TTL:PT1H
BEGIN:VTIMEZONE
TZID:Europe/Paris
BEGIN:DAYLIGHT
TZOFFSETFROM:+0100
TZOFFSETTO:+0200
TZNAME:CEST
DTSTART:20250330T010000
END:DAYLIGHT
BEGIN:STANDARD
TZOFFSETFROM:+0200
TZOFFSETTO:+0100
TZNAME:CET
DTSTART:20251026T010000
END:STANDARD
BEGIN:DAYLIGHT
TZOFFSETFROM:+0100
TZOFFSETTO:+0200
TZNAME:CEST
DTSTART:20260329T010000
END:DAYLIGHT
BEGIN:STANDARD
TZOFFSETFROM:+0200
TZOFFSETTO:+0100
TZNAME:CET
DTSTART:20261025T010000
END:STANDARD
BEGIN:DAYLIGHT
TZOFFSETFROM:+0100
TZOFFSETTO:+0200
TZNAME:CEST
DTSTART:20270328T010000
END:DAYLIGHT
BEGIN:STANDARD
TZOFFSETFROM:+0200
TZOFFSETTO:+0100
TZNAME:CET
DTSTART:20271031T010000
END:STANDARD
END:VTIMEZONE
BEGIN:VEVENT
DTSTART;TZID=Europe/Paris:20260303T090000
DTEND;TZID=Europe/Paris:20260303T103000
DTSTAMP:20260421T165525
CREATED:20260218T132308Z
LAST-MODIFIED:20260218T132359Z
UID:13672-1772528400-1772533800@ifb-owl.de
SUMMARY:„IQ um 9“: „Arbeitsmarkt im Wandel“ – Zuwanderung im  Wandel und die Auswirkungen auf die Beschäftigung
DESCRIPTION:Am 03. März geht „IQ um 9“ mit neuem Schwung in die nächste Runde. \nAuch in dieser Förderphase 2026-2028 möchten wir gemeinsam mit Ihnen diese Informationsreihe weiterführen. Wir freuen uns sehr auf interessante Themen und Vorträge und darüber hinaus auf einen aktiven Austausch mit Ihnen. In unserem ersten Treffen wollen wir einen genaueren Einblick über den „Arbeitsmarkt im Wandel“ geben. Wie hat sich die Zahl der Zuwanderung in Deutschland in den letzten Jahren verändert und welche Konsequenzen hat dies auf die Beschäftigung erwachsener Menschen ausländischer Herkunft. Dazu wird Frau Franziska Loschert von der IQ-Fachstelle Einwanderung und Integration von Minor – Projektkontor für Bildung und Forschung aus Berlin referieren und über die neusten Erkenntnisse berichten. Anschließend können Sie mit Frau Loschert und den anderen Teilnehmenden in einen aktiven Austausch kommen. \n„IQ um 9“ geht wieder in seinen üblichen Rhythmus – der 1. Dienstag im Monat – über. Am 14. April (Verschiebung aufgrund der Osterfeiertage) findet die nächste Veranstaltung statt. Das Thema sowie weitere Termine bis zum Sommer 2026 werden zeitnah bekannt gegeben. \nAnmeldungen können direkt hier vorgenommen werden. (Bei Anmeldung mehrerer Personen\, bitte registrieren Sie sich jeweils einzeln.)
URL:https://ifb-owl.de/event/iq-um-9-arbeitsmarkt-im-wandel-zuwanderung-im-wandel-und-die-auswirkungen-auf-die-beschaeftigung/
LOCATION:Online
ATTACH;FMTTYPE=image/jpeg:https://ifb-owl.de/wp-content/uploads/2024/02/iq-um-9-bild-final-1-e1708460231133.jpeg
ORGANIZER;CN="Initiative f%C3%BCr Besch%C3%A4ftigung OWL e.V.":MAILTO:info@ifb-owl.de
END:VEVENT
END:VCALENDAR