﻿BEGIN:VCALENDAR
VERSION:2.0
PRODID:-//Initiative für Beschäftigung OWL e. V. - ECPv6.15.20//NONSGML v1.0//EN
CALSCALE:GREGORIAN
METHOD:PUBLISH
X-ORIGINAL-URL:https://ifb-owl.de
X-WR-CALDESC:Veranstaltungen für Initiative für Beschäftigung OWL e. V.
REFRESH-INTERVAL;VALUE=DURATION:PT1H
X-Robots-Tag:noindex
X-PUBLISHED-TTL:PT1H
BEGIN:VTIMEZONE
TZID:Europe/Berlin
BEGIN:DAYLIGHT
TZOFFSETFROM:+0100
TZOFFSETTO:+0200
TZNAME:CEST
DTSTART:20200329T010000
END:DAYLIGHT
BEGIN:STANDARD
TZOFFSETFROM:+0200
TZOFFSETTO:+0100
TZNAME:CET
DTSTART:20201025T010000
END:STANDARD
BEGIN:DAYLIGHT
TZOFFSETFROM:+0100
TZOFFSETTO:+0200
TZNAME:CEST
DTSTART:20210328T010000
END:DAYLIGHT
BEGIN:STANDARD
TZOFFSETFROM:+0200
TZOFFSETTO:+0100
TZNAME:CET
DTSTART:20211031T010000
END:STANDARD
BEGIN:DAYLIGHT
TZOFFSETFROM:+0100
TZOFFSETTO:+0200
TZNAME:CEST
DTSTART:20220327T010000
END:DAYLIGHT
BEGIN:STANDARD
TZOFFSETFROM:+0200
TZOFFSETTO:+0100
TZNAME:CET
DTSTART:20221030T010000
END:STANDARD
END:VTIMEZONE
BEGIN:VTIMEZONE
TZID:UTC
BEGIN:STANDARD
TZOFFSETFROM:+0000
TZOFFSETTO:+0000
TZNAME:UTC
DTSTART:20200101T000000
END:STANDARD
END:VTIMEZONE
BEGIN:VEVENT
DTSTART;TZID=Europe/Berlin:20210304T113000
DTEND;TZID=Europe/Berlin:20210304T133000
DTSTAMP:20260426T031841
CREATED:20210316T095113Z
LAST-MODIFIED:20210316T095113Z
UID:12346-1614857400-1614864600@ifb-owl.de
SUMMARY:24-Stunden-Betreuungskräfte/Live-Ins - Systemrelevant und selbst außerhalb der sozialen Sicherungssysteme
DESCRIPTION:Bundesweit sind 300-500.000 osteuropäische Betreuungskräfte unverzichtbar in der “Pflege” in privaten Haushalten.\nSie sind vielfach sozial nicht abgesichert und unterliegen sehr häufig ausbeuterischen Arbeitsbedingungen\, führen ein\nSchattendasein auch in Ostwestfalen-Lippe. \nGemeinsam mit Justyna Oblacewicz\, Beraterin Faire Mobilität\, möchten wir im (ersten) digitalen Themenkreis Integration mit Ihnen ins Gespräch kommen und die Situation der Live-Ins beleuchten. \n 
URL:https://ifb-owl.de/event/24-stunden-betreuungskraefte-live-ins-systemrelevant-und-selbst-ausserhalb-der-sozialen-sicherungssysteme/
ORGANIZER;CN="Initiative f%C3%BCr Besch%C3%A4ftigung OWL e.V.":MAILTO:info@ifb-owl.de
END:VEVENT
BEGIN:VEVENT
DTSTART;TZID=UTC:20210323T160000
DTEND;TZID=UTC:20210323T170000
DTSTAMP:20260426T031841
CREATED:20210316T105932Z
LAST-MODIFIED:20210316T105942Z
UID:12348-1616515200-1616518800@ifb-owl.de
SUMMARY:CSR 4.0 Teatime\, Nachhaltige Ziele realisieren: Mit Digitalisierung und CSR
DESCRIPTION:Digitaler Zoom-Talk zum Thema: \nDigitalisierung und Nachhaltigkeit: Zwei Megatrends als zentrale Zukunftstreiber? Wo lässt sich unternehmerische Verantwortung in der Digitalisierung verorten? Stichwort Digitale Innovation: Eine Chance für Startups durch CSR? \nHost: Founders Foundation\, Dominik Gross
URL:https://ifb-owl.de/event/csr-4-0-teatime-nachhaltige-ziele-realisieren-mit-digitalisierung-und-csr/
LOCATION:https://www.eventbrite.de/e/csr-40-teatime-founders-foundation-registrierung-142712313371
END:VEVENT
END:VCALENDAR