﻿BEGIN:VCALENDAR
VERSION:2.0
PRODID:-//Initiative für Beschäftigung OWL e. V. - ECPv6.15.20//NONSGML v1.0//EN
CALSCALE:GREGORIAN
METHOD:PUBLISH
X-ORIGINAL-URL:https://ifb-owl.de
X-WR-CALDESC:Veranstaltungen für Initiative für Beschäftigung OWL e. V.
REFRESH-INTERVAL;VALUE=DURATION:PT1H
X-Robots-Tag:noindex
X-PUBLISHED-TTL:PT1H
BEGIN:VTIMEZONE
TZID:Europe/Paris
BEGIN:DAYLIGHT
TZOFFSETFROM:+0100
TZOFFSETTO:+0200
TZNAME:CEST
DTSTART:20220327T010000
END:DAYLIGHT
BEGIN:STANDARD
TZOFFSETFROM:+0200
TZOFFSETTO:+0100
TZNAME:CET
DTSTART:20221030T010000
END:STANDARD
BEGIN:DAYLIGHT
TZOFFSETFROM:+0100
TZOFFSETTO:+0200
TZNAME:CEST
DTSTART:20230326T010000
END:DAYLIGHT
BEGIN:STANDARD
TZOFFSETFROM:+0200
TZOFFSETTO:+0100
TZNAME:CET
DTSTART:20231029T010000
END:STANDARD
BEGIN:DAYLIGHT
TZOFFSETFROM:+0100
TZOFFSETTO:+0200
TZNAME:CEST
DTSTART:20240331T010000
END:DAYLIGHT
BEGIN:STANDARD
TZOFFSETFROM:+0200
TZOFFSETTO:+0100
TZNAME:CET
DTSTART:20241027T010000
END:STANDARD
END:VTIMEZONE
BEGIN:VEVENT
DTSTART;TZID=Europe/Paris:20230419T143000
DTEND;TZID=Europe/Paris:20230419T173000
DTSTAMP:20260423T221814
CREATED:20230320T081044Z
LAST-MODIFIED:20230320T081127Z
UID:13013-1681914600-1681925400@ifb-owl.de
SUMMARY:Themenkreis Jugendliche
DESCRIPTION:Themenkreis Jugendliche tagt in Bielefeld am 19.04.2023 in der Zeit von 14:30 – 17:30 Uhr. \nWir werden zu Gast sein im Gartensaal in der Neuen Schmiede\, Handwerkerstraße 7\, 33617 Bielefeld. \nMit dem Themenkreis möchten wir die Jugendlichen wieder in den Fokus nehmen und Ihnen positive Antworten auf die Herausforderungen der diversen Krisen vorstellen\, um vorauszublicken und anschließend gemeinsam mit Ihnen weiter zu denken und zu diskutieren. \nAnmeldungen nehmen wir sehr gerne per Mail unter folgender Adresse heike.derjung@ifb-owl.de entgegen.
URL:https://ifb-owl.de/event/themenkreis-jugendliche-5/
ORGANIZER;CN="Initiative f%C3%BCr Besch%C3%A4ftigung OWL e.V.":MAILTO:info@ifb-owl.de
END:VEVENT
END:VCALENDAR