﻿BEGIN:VCALENDAR
VERSION:2.0
PRODID:-//Initiative für Beschäftigung OWL e. V. - ECPv6.15.20//NONSGML v1.0//EN
CALSCALE:GREGORIAN
METHOD:PUBLISH
X-ORIGINAL-URL:https://ifb-owl.de
X-WR-CALDESC:Veranstaltungen für Initiative für Beschäftigung OWL e. V.
REFRESH-INTERVAL;VALUE=DURATION:PT1H
X-Robots-Tag:noindex
X-PUBLISHED-TTL:PT1H
BEGIN:VTIMEZONE
TZID:Europe/Paris
BEGIN:DAYLIGHT
TZOFFSETFROM:+0100
TZOFFSETTO:+0200
TZNAME:CEST
DTSTART:20220327T010000
END:DAYLIGHT
BEGIN:STANDARD
TZOFFSETFROM:+0200
TZOFFSETTO:+0100
TZNAME:CET
DTSTART:20221030T010000
END:STANDARD
BEGIN:DAYLIGHT
TZOFFSETFROM:+0100
TZOFFSETTO:+0200
TZNAME:CEST
DTSTART:20230326T010000
END:DAYLIGHT
BEGIN:STANDARD
TZOFFSETFROM:+0200
TZOFFSETTO:+0100
TZNAME:CET
DTSTART:20231029T010000
END:STANDARD
BEGIN:DAYLIGHT
TZOFFSETFROM:+0100
TZOFFSETTO:+0200
TZNAME:CEST
DTSTART:20240331T010000
END:DAYLIGHT
BEGIN:STANDARD
TZOFFSETFROM:+0200
TZOFFSETTO:+0100
TZNAME:CET
DTSTART:20241027T010000
END:STANDARD
END:VTIMEZONE
BEGIN:VEVENT
DTSTART;TZID=Europe/Paris:20231218T150000
DTEND;TZID=Europe/Paris:20231218T163000
DTSTAMP:20260423T095220
CREATED:20231201T081131Z
LAST-MODIFIED:20231201T081141Z
UID:13294-1702911600-1702917000@ifb-owl.de
SUMMARY:"Experimentierwerkstatt KI & Bildung"\, Peer to Peer in OWL
DESCRIPTION:Die künstliche Intelligenz (KI) revolutioniert das Konzept des lebenslangen Lernens\, indem sie individuell zugeschnittene Bildungswege eröffnet.  Die sich an den persönlichen Lernfortschritt und die spezifischen Bedürfnisse jedes Einzelnen anpassen – sei es im beruflichen Umfeld oder im Rahmen gezielter Weiterbildungsmaßnahmen. Die daraus resultierenden Möglichkeiten für Bildungsangebote und die Gewinnung wie auch Bindung von Fachkräften in der Region Ostwestfalen-Lippe (OWL) sind ebenso faszinierend wie richtungsweisend. \n\n\n\nWir die IfB OWL e.V\, sowie Christiane Carstensen und Dr. Sonya Dase von Deutsch im Job GmbH\, freuen uns\, Sie zu einem aktiven Dialog und gemeinsamen Entdecken dieser neuen Horizonte in unserer \n\n\n\n“Experimentierwerkstatt KI & Bildung” am 18.12.2023 um 15:00 Uhr in der Herforder Straße 73\, Konferenzraum 529\, 33602 Bielefeld \n\n\n\neinzuladen. \n\n\n\nIn einem interaktiven Workshop von 1\,5 Stunden erwarten Sie: • Ein fundierter Einblick in die Grundlagen der KI mit Blick auf die neuesten technologischen Entwicklungen • Interaktive Lernstationen\, an denen Sie selbst Anwendungen der KI im Bildungsbereich erkunden können Ihre Einsichten und Perspektiven sind für uns von großem Wert – der Austausch und die gemeinschaftliche Erkundung neuer Wege im Bildungswesen stehen im Mittelpunkt unserer Veranstaltung. Wir freuen uns darauf\, Sie persönlich willkommen zu heißen und gemeinsam mit Ihnen in einem inspirierenden Gespräch die Bildungszukunft zu formen. \nDie Veranstaltung ist ausgebucht.
URL:https://ifb-owl.de/event/experimentierwerkstatt-ki-bildung-peer-to-peer-in-owl/
ATTACH;FMTTYPE=image/jpeg:https://ifb-owl.de/wp-content/uploads/2023/11/b2acbefe-f951-4035-8442-248c53466a6c.jpeg
ORGANIZER;CN="Initiative f%C3%BCr Besch%C3%A4ftigung OWL e.V.":MAILTO:info@ifb-owl.de
END:VEVENT
END:VCALENDAR