﻿BEGIN:VCALENDAR
VERSION:2.0
PRODID:-//Initiative für Beschäftigung OWL e. V. - ECPv6.15.20//NONSGML v1.0//EN
CALSCALE:GREGORIAN
METHOD:PUBLISH
X-WR-CALNAME:Initiative für Beschäftigung OWL e. V.
X-ORIGINAL-URL:https://ifb-owl.de
X-WR-CALDESC:Veranstaltungen für Initiative für Beschäftigung OWL e. V.
REFRESH-INTERVAL;VALUE=DURATION:PT1H
X-Robots-Tag:noindex
X-PUBLISHED-TTL:PT1H
BEGIN:VTIMEZONE
TZID:Europe/Paris
BEGIN:DAYLIGHT
TZOFFSETFROM:+0100
TZOFFSETTO:+0200
TZNAME:CEST
DTSTART:20230326T010000
END:DAYLIGHT
BEGIN:STANDARD
TZOFFSETFROM:+0200
TZOFFSETTO:+0100
TZNAME:CET
DTSTART:20231029T010000
END:STANDARD
BEGIN:DAYLIGHT
TZOFFSETFROM:+0100
TZOFFSETTO:+0200
TZNAME:CEST
DTSTART:20240331T010000
END:DAYLIGHT
BEGIN:STANDARD
TZOFFSETFROM:+0200
TZOFFSETTO:+0100
TZNAME:CET
DTSTART:20241027T010000
END:STANDARD
BEGIN:DAYLIGHT
TZOFFSETFROM:+0100
TZOFFSETTO:+0200
TZNAME:CEST
DTSTART:20250330T010000
END:DAYLIGHT
BEGIN:STANDARD
TZOFFSETFROM:+0200
TZOFFSETTO:+0100
TZNAME:CET
DTSTART:20251026T010000
END:STANDARD
END:VTIMEZONE
BEGIN:VEVENT
DTSTART;TZID=Europe/Paris:20240125T143000
DTEND;TZID=Europe/Paris:20240125T170000
DTSTAMP:20260423T081757
CREATED:20240101T171351Z
LAST-MODIFIED:20240110T080331Z
UID:13311-1706193000-1706202000@ifb-owl.de
SUMMARY:Themenkreis Jugendliche
DESCRIPTION:Der erste Themenkreis Jugendliche im Jahr 2024  zum Thema „NEETs im Fokus“ findet am 25.01.2024 im BAJ e.V.\, August-Bebel-Str. 135-145 in 33602 Bielefeld statt. \nWir beginnen um 14:00 Uhr im Konferenzsaal 403 in der 3. Etage\n(zu erreichen über den Haupteingang der Herrmann-Kleinewächter-Straße). \nBitte melden Sie uns Ihre Teilnahme bis zum 22.01.24 über unser Anmeldetool. \nWir freuen uns darauf\, Sie bei diesem Themenkreis begrüßen zu dürfen! \n\n	anfahrt-und-parkplatz-baj.pdf
URL:https://ifb-owl.de/event/themenkreis-jugendliche-6/
LOCATION:BAJ e.V.\, August-Bebel-Str. 135-145\, 33602 Bielefeld\, August-Bebel-Str. 135-145\, Bielefeld\, NRW\, 33602\, Deutschland
CATEGORIES:Themenkreis
ATTACH;FMTTYPE=image/jpeg:https://ifb-owl.de/wp-content/uploads/2015/03/TK-JU_Schild.jpg
ORGANIZER;CN="Initiative f%C3%BCr Besch%C3%A4ftigung OWL e.V.":MAILTO:info@ifb-owl.de
END:VEVENT
END:VCALENDAR