﻿BEGIN:VCALENDAR
VERSION:2.0
PRODID:-//Initiative für Beschäftigung OWL e. V. - ECPv6.15.20//NONSGML v1.0//EN
CALSCALE:GREGORIAN
METHOD:PUBLISH
X-ORIGINAL-URL:https://ifb-owl.de
X-WR-CALDESC:Veranstaltungen für Initiative für Beschäftigung OWL e. V.
REFRESH-INTERVAL;VALUE=DURATION:PT1H
X-Robots-Tag:noindex
X-PUBLISHED-TTL:PT1H
BEGIN:VTIMEZONE
TZID:Europe/Paris
BEGIN:DAYLIGHT
TZOFFSETFROM:+0100
TZOFFSETTO:+0200
TZNAME:CEST
DTSTART:20240331T010000
END:DAYLIGHT
BEGIN:STANDARD
TZOFFSETFROM:+0200
TZOFFSETTO:+0100
TZNAME:CET
DTSTART:20241027T010000
END:STANDARD
BEGIN:DAYLIGHT
TZOFFSETFROM:+0100
TZOFFSETTO:+0200
TZNAME:CEST
DTSTART:20250330T010000
END:DAYLIGHT
BEGIN:STANDARD
TZOFFSETFROM:+0200
TZOFFSETTO:+0100
TZNAME:CET
DTSTART:20251026T010000
END:STANDARD
BEGIN:DAYLIGHT
TZOFFSETFROM:+0100
TZOFFSETTO:+0200
TZNAME:CEST
DTSTART:20260329T010000
END:DAYLIGHT
BEGIN:STANDARD
TZOFFSETFROM:+0200
TZOFFSETTO:+0100
TZNAME:CET
DTSTART:20261025T010000
END:STANDARD
END:VTIMEZONE
BEGIN:VEVENT
DTSTART;TZID=Europe/Paris:20250304T090000
DTEND;TZID=Europe/Paris:20250304T103000
DTSTAMP:20260422T104529
CREATED:20250213T151341Z
LAST-MODIFIED:20250218T115913Z
UID:13540-1741078800-1741084200@ifb-owl.de
SUMMARY:„IQ um 9“: Gestalten wir gemeinsam einen zukunftsorientierten Arbeitsmarktintegrationsprozess in OWL
DESCRIPTION:Wir laden Sie herzlich ein am 4. März um 9:00 Uhr mehr über die Ziele und das Konzept der „ctt OWL“ zu erfahren\, damit sie den Tag der Messe bestmöglich als Multiplikator*in\, als Arbeitsmarktaktuer*in\, als Anleiter*in\, als Berater*in\, als Personalverantwortliche oder als interessierte Teilnehmer*in für sich nutzen können. \n„IQ um 9“ in Präsenz\, das ist die „ctt OWL“ am 18. März ab 13 Uhr in der Hochschule Bielefeld! Der Workshop am Vormittag ist bereits ausgebucht und ca. 50 Akteure haben sich als Aussteller für die Messe angemeldet. Wir freuen uns über die Resonanz! \nWas ist die connect|train|transform OWL (ctt OWL)? Für wen ist sie genau gedacht? Und warum sind wir der Meinung\, dass genau jetzt ein guter Zeitpunkt für sie ist? \nIm Mittelpunkt steht die Gestaltung eines zukunftsorientierten und nachhaltigen Arbeitsmarktintegrationsprozesses in OWL auf Basis eines agilen Schnittstellenmanagements\, das die Menschen und Unternehmen in den Fokus nimmt. Wir freuen uns\, dass Sebastian Neuhaus-Ewering\, Referent der Hochschule Bielefeld aus dem Dezernat Internationales mit bei diesem Termin dabei ist. Die Veranstaltung wird in Kooperation mit der HSBI GlobalFIT Initiative realisiert. \nAnmeldungen können direkt hier vorgenommen werden. (Bei Anmeldung mehrerer Personen\, bitte registrieren Sie sich jeweils einzeln). \n 
URL:https://ifb-owl.de/event/informationsreihe-iq-um-9/
LOCATION:Online
ATTACH;FMTTYPE=image/jpeg:https://ifb-owl.de/wp-content/uploads/2024/02/iq-um-9-bild-final-1-e1708460231133.jpeg
ORGANIZER;CN="Initiative f%C3%BCr Besch%C3%A4ftigung OWL e.V.":MAILTO:info@ifb-owl.de
END:VEVENT
BEGIN:VEVENT
DTSTART;TZID=Europe/Paris:20250318T100000
DTEND;TZID=Europe/Paris:20250318T120000
DTSTAMP:20260422T104529
CREATED:20250110T104802Z
LAST-MODIFIED:20250121T160146Z
UID:13526-1742292000-1742299200@ifb-owl.de
SUMMARY:connect|train|transform OWL "Gestaltung eines zukunftsorientierten Arbeitsmarktintegrationsprozesses in OWL"
DESCRIPTION:Wir laden Sie herzlich ein zur ersten connect | train | transform OWL. \nDiese zweigeteilte Veranstaltung hat das Ziel\, eine nachhaltige und innovative Arbeitsmarktintegration für Menschen mit Migrationsgeschichte oder mit Fluchthintergrund in Ostwestfalen-Lippe zu fördern. Unter dem Motto „Wir riefen Arbeitskräfte\, und es kamen Menschen“ gestalten wir diesen Tag im Sinne eines ganzheitlichen Ansatzes. Das Besondere: Alle unterstützenden Akteure der Arbeitsmarktintegration in OWL – von der Anerkennung\, über die Qualifizierung bis hin zur Vermittlung in Arbeit – finden an einem Ort zusammen. \nZiele der Veranstaltung: \n· Förderung eines zirkulären Integrationsansatzes\n· Entwicklung eines regionalen\, systemischen Arbeitsmarktintegrationsmanagements\n· Sicherstellung einer flexiblen und effizienten Zusammenarbeit aller Akteure\n· Schaffung eines Rahmens für die zielgerichtete Beratung von Arbeitnehmer*innen und Arbeitgeber*innen ausländischer Herkunft. \nDie Ergebnisse der Veranstaltung werden evaluiert und den Teilnehmenden sowie Arbeitsmarktakteuren zur Verfügung gestellt\, um die Prozesse kontinuierlich weiterzuentwickeln. \nAktive Akteure: \n· Wichtige regionale Institutionen und Partner: Handwerkskammern\, Industrie- und Handelskammern\, Bundesamt für Migration und Flucht\, Bundesagentur für Arbeit\, Jobcenter\, DGB OWL\, Städte und Kreise in OWL\, Regionales Integrationsnetzwerk IQ NRW-Ost\, Hochschule Bielefeld\, Initiative für Beschäftigung OWL e.V.\, Migrantenorganisationen\, Wohlfahrtsverbände\, Träger der Arbeits- und Berufsförderung\, Bildungsträger\, Träger von Deutschförderangeboten\, lokale Integrationsnetzwerke und viele mehr. \n  \n10:00 – 12:00 Uhr\n(Zielgruppe: Arbeitsmarktakteure und Unternehmen) \nEin interaktiver Workshop für bis zu 50 Teilnehmer*innen\, der sich auf agiles Schnittstellenmanagement im Kontext eines systemischen Arbeitsmarktintegrationsmanagements fokussiert. Diskutieren Sie mit uns innovative Ansätze und gestalten Sie den Integrationsprozess in OWL aktiv mit. Ein besonderer Fokus soll dabei auf dem Einsatz von innovativen Technologien wie Chatbots und digitalen Tools zur möglichen Prozessunterstützung liegen. \nab 13:00 Uhr Informationsmesse\n(Zielgruppe: potenzielle Arbeitnehmer*innen und Unternehmen) \nEine Messe\, die potenzielle Arbeitnehmer*innen mit Migrationsgeschichte und Akteure des Arbeitsmarktintegrationsprozesses in thematischen Clustern zusammenbringt und individuelle Wege in den regionalen Arbeitsmarkt aufzeigt. Nutzen Sie die Gelegenheit als ausstellender Akteur\, mit potenziellem Arbeitnehmer*innen und Unternehmen ins Gespräch zu kommen und gemeinsam mit Ihnen individuelle Wege der (Auf-) Qualifizierung\, Ausbildung oder Studium zu entwickeln. Auch Akteure des beruflichen Anerkennungsprozesses sowie im Bereich Aufenthalts- und Sozialrecht sind hier explizit angesprochen. Um sprachliche Barrieren zu überwinden\, werden Lotsen an diesem Tag in verschiedenen Sprachen ansprechbar sein und die Zielgruppe unterstützen. \n  \nWir freuen uns auf Ihre Teilnahme und darauf\, gemeinsam eine moderne\, nachhaltige und wirksame Integrationsstrategie zu entwickeln. \n  \nHier können Sie sich ausschließlich für den Workshop am Vormittag anmelden.\n(Bei Anmeldung mehrerer Personen\, bitte registrieren Sie sich jeweils einzeln).
URL:https://ifb-owl.de/event/connecttraintransform-owl-gestaltung-eines-zukunftsorientierten-arbeitsmarktintegrationsprozesses-in-owl/
LOCATION:Hochschule Bielefeld\, Interaktion 1\, Bielefeld\, 33619\, Germany
ATTACH;FMTTYPE=image/jpeg:https://ifb-owl.de/wp-content/uploads/2025/01/ctt-logo-rz.jpg
ORGANIZER;CN="Initiative f%C3%BCr Besch%C3%A4ftigung OWL e.V.":MAILTO:info@ifb-owl.de
END:VEVENT
END:VCALENDAR