﻿BEGIN:VCALENDAR
VERSION:2.0
PRODID:-//Initiative für Beschäftigung OWL e. V. - ECPv6.15.20//NONSGML v1.0//EN
CALSCALE:GREGORIAN
METHOD:PUBLISH
X-WR-CALNAME:Initiative für Beschäftigung OWL e. V.
X-ORIGINAL-URL:https://ifb-owl.de
X-WR-CALDESC:Veranstaltungen für Initiative für Beschäftigung OWL e. V.
REFRESH-INTERVAL;VALUE=DURATION:PT1H
X-Robots-Tag:noindex
X-PUBLISHED-TTL:PT1H
BEGIN:VTIMEZONE
TZID:Europe/Paris
BEGIN:DAYLIGHT
TZOFFSETFROM:+0100
TZOFFSETTO:+0200
TZNAME:CEST
DTSTART:20240331T010000
END:DAYLIGHT
BEGIN:STANDARD
TZOFFSETFROM:+0200
TZOFFSETTO:+0100
TZNAME:CET
DTSTART:20241027T010000
END:STANDARD
BEGIN:DAYLIGHT
TZOFFSETFROM:+0100
TZOFFSETTO:+0200
TZNAME:CEST
DTSTART:20250330T010000
END:DAYLIGHT
BEGIN:STANDARD
TZOFFSETFROM:+0200
TZOFFSETTO:+0100
TZNAME:CET
DTSTART:20251026T010000
END:STANDARD
BEGIN:DAYLIGHT
TZOFFSETFROM:+0100
TZOFFSETTO:+0200
TZNAME:CEST
DTSTART:20260329T010000
END:DAYLIGHT
BEGIN:STANDARD
TZOFFSETFROM:+0200
TZOFFSETTO:+0100
TZNAME:CET
DTSTART:20261025T010000
END:STANDARD
END:VTIMEZONE
BEGIN:VEVENT
DTSTART;TZID=Europe/Paris:20251007T090000
DTEND;TZID=Europe/Paris:20251007T103000
DTSTAMP:20260421T233655
CREATED:20250909T131441Z
LAST-MODIFIED:20250909T131441Z
UID:13616-1759827600-1759833000@ifb-owl.de
SUMMARY:„IQ um 9“: Expertenimpuls zum Status Quo bei den Berufssprachkursen
DESCRIPTION:In der nächsten Ausgabe von „IQ um 9“ am 07. Oktober beschäftigen wir uns mit der aktuellen Lage bei den Berufssprachkursen in OWL. In diesem Bereich hat es in den vergangenen anderthalb Jahren einige Änderungen gegeben und wir wollen uns auf den neuesten Stand bringen. \nAnnika Scholten vom Bundesamt für Migration und Flüchtlinge (BAMF) wird uns zunächst die aktuelle Lage bei den Berufssprachkursen allgemein und bei speziellen Formaten wie dem Job-BSK darstellen. Im Anschluss berichtet Sabine Stallbaum von unserer IQ-Servicestelle Fachkräftesicherung in IQ NRW-Ost an der Schnittstelle zwischen Unternehmen und BAMF von ihren Erfahrungen. Im Rahmen der kommunikativen Bedarfserhebung für Unternehmen beraten die Kolleginnen des AWO KV Bielefeld Arbeitgeber*innen in ganz OWL zu möglichen Deutschförderangeboten für Beschäftigte\, etwa durch einen Job-BSK. \nIm Anschluss wird es wie immer genügend Zeit für Fragen und Austausch geben. \nAnmeldungen können direkt hier vorgenommen werden. (Bei Anmeldung mehrerer Personen\, bitte registrieren Sie sich jeweils einzeln.)
URL:https://ifb-owl.de/event/iq-um-9-expertenimpuls-zum-status-quo-bei-den-berufssprachkursen/
LOCATION:Online
ATTACH;FMTTYPE=image/jpeg:https://ifb-owl.de/wp-content/uploads/2024/02/iq-um-9-bild-final-1-e1708460231133.jpeg
ORGANIZER;CN="Initiative f%C3%BCr Besch%C3%A4ftigung OWL e.V.":MAILTO:info@ifb-owl.de
END:VEVENT
END:VCALENDAR